BEGIN:VCALENDAR
VERSION:2.0
METHOD:PUBLISH
PRODID:-//Centerboard Wochenkalender//DE
NAME:sekgk
X-WR-CALNAME:sekgk
DESCRIPTION:Der Stundenplan der Schule sekgk
X-WR-CALDESC:Der Stundenplan der Schule sekgk
TIMEZONE-ID:Europe/Zurich
X-WR-TIMEZONE:Europe/Zurich
URL:https://portal.sbl.ch/sekgk/cindex.php?longurl=fuBGGMFEzjGk0A6APVw7UjQgmB3VLucjn2xMJwdDjU8dXoeu7dWvCfCM0bQKMRp3&nocache=1
REFRESH-INTERVAL;VALUE=DURATION:P1D
X-PUBLISHED-TTL:PT1M
BEGIN:VTIMEZONE
TZID:Europe/Zurich
TZURL:http://tzurl.org/zoneinfo/Europe/Zurich
BEGIN:DAYLIGHT
TZOFFSETFROM:+0100
TZOFFSETTO:+0200
TZNAME:CEST
DTSTART:19810329T020000
RRULE:FREQ=YEARLY;BYMONTH=3;BYDAY=-1SU
END:DAYLIGHT
BEGIN:STANDARD
TZOFFSETFROM:+0200
TZOFFSETTO:+0100
TZNAME:CET
DTSTART:19961027T030000
RRULE:FREQ=YEARLY;BYMONTH=10;BYDAY=-1SU
END:STANDARD
END:VTIMEZONE
BEGIN:VEVENT
UID:20260117etT_81030etetetTermin@centerboard.ch
DTSTART;VALUE=DATE:20260117
DURATION:P1D
LOCATION:
SUMMARY:Semesterwechsel
PRIORITY:1
CLASS:PUBLIC
END:VEVENT
BEGIN:VEVENT
UID:20251027etT_84610etetetTermin@centerboard.ch
DTSTART;VALUE=DATE:20251027
DURATION:P5D
LOCATION:
SUMMARY:Elternbesuchswoche 2./3. Klassen
PRIORITY:1
CLASS:PUBLIC
END:VEVENT
BEGIN:VEVENT
UID:20251028etT_84611etetetTermin@centerboard.ch
DTSTART;VALUE=DATE:20251028
DURATION:P1D
LOCATION:
SUMMARY:Herbstsporttag
PRIORITY:1
CLASS:PUBLIC
END:VEVENT
BEGIN:VEVENT
UID:20251030etT_84614et10:15:00et23:59:59etTermin@centerboard.ch
DTSTART;TZID=Europe/Zurich:20251030T101500
DTEND;TZID=Europe/Zurich:20251030T235900
LOCATION:
SUMMARY:SuS-Parlament
PRIORITY:1
CLASS:PUBLIC
END:VEVENT
BEGIN:VEVENT
UID:20251030etT_84615et13:30:00et15:05:00etTermin@centerboard.ch
DTSTART;TZID=Europe/Zurich:20251030T133000
DTEND;TZID=Europe/Zurich:20251030T150500
LOCATION:
SUMMARY:Klimarat
PRIORITY:1
CLASS:PUBLIC
END:VEVENT
BEGIN:VEVENT
UID:20251104etT_84627et08:30:00et11:30:00etTermin@centerboard.ch
DTSTART;TZID=Europe/Zurich:20251104T083000
DTEND;TZID=Europe/Zurich:20251104T113000
LOCATION:
SUMMARY:LBZ-Sprechstunde
PRIORITY:1
CLASS:PUBLIC
END:VEVENT
BEGIN:VEVENT
UID:20251110etT_84632et18:00:00et20:00:00etTermin@centerboard.ch
DTSTART;TZID=Europe/Zurich:20251110T180000
DTEND;TZID=Europe/Zurich:20251110T200000
LOCATION:LBZ Pratteln
SUMMARY:Elternabend LBZ Pratteln, Klasse 2Aa
PRIORITY:1
CLASS:PUBLIC
END:VEVENT
BEGIN:VEVENT
UID:20251110etT_84633et19:00:00et21:00:00etTermin@centerboard.ch
DTSTART;TZID=Europe/Zurich:20251110T190000
DTEND;TZID=Europe/Zurich:20251110T210000
LOCATION:LBZ Pratteln
SUMMARY:Elternabend LBZ Pratteln, Klasse 2Ab
PRIORITY:1
CLASS:PUBLIC
END:VEVENT
BEGIN:VEVENT
UID:20251110etT_84634et20:00:00et22:00:00etTermin@centerboard.ch
DTSTART;TZID=Europe/Zurich:20251110T200000
DTEND;TZID=Europe/Zurich:20251110T220000
LOCATION:LBZ Pratteln
SUMMARY:Elternabend LBZ Pratteln, Klasse 2Ac
PRIORITY:1
CLASS:PUBLIC
END:VEVENT
BEGIN:VEVENT
UID:20251113etT_84635etetetTermin@centerboard.ch
DTSTART;VALUE=DATE:20251113
DURATION:P1D
LOCATION:
SUMMARY:Gendertag - Zukunftstag (1./2. Klassen)
PRIORITY:1
CLASS:PUBLIC
END:VEVENT
BEGIN:VEVENT
UID:20251113etT_84636etetetTermin@centerboard.ch
DTSTART;VALUE=DATE:20251113
DURATION:P1D
LOCATION:
SUMMARY:Projektarbeitstag (3. Klassen)
PRIORITY:1
CLASS:PUBLIC
END:VEVENT
BEGIN:VEVENT
UID:20251117etT_84639etetetTermin@centerboard.ch
DTSTART;VALUE=DATE:20251117
DURATION:P5D
LOCATION:
SUMMARY:Auslage Infomaterial Weiterführende Schulen (3. Klassen)
PRIORITY:1
CLASS:PUBLIC
END:VEVENT
BEGIN:VEVENT
UID:20251117etT_84640et19:00:00et21:00:00etTermin@centerboard.ch
DTSTART;TZID=Europe/Zurich:20251117T190000
DTEND;TZID=Europe/Zurich:20251117T210000
LOCATION:Aula
SUMMARY:Gastreferat: Welche Zukunft wollen wir? Öffentliche Veranstaltung
PRIORITY:1
CLASS:PUBLIC
END:VEVENT
BEGIN:VEVENT
UID:20251119etT_84641et18:00:00et20:00:00etTermin@centerboard.ch
DTSTART;TZID=Europe/Zurich:20251119T180000
DTEND;TZID=Europe/Zurich:20251119T200000
LOCATION:LBZ Pratteln
SUMMARY:Elternabend LBZ Pratteln, Klasse 2Ee
PRIORITY:1
CLASS:PUBLIC
END:VEVENT
BEGIN:VEVENT
UID:20251119etT_84642et19:00:00et21:00:00etTermin@centerboard.ch
DTSTART;TZID=Europe/Zurich:20251119T190000
DTEND;TZID=Europe/Zurich:20251119T210000
LOCATION:LBZ Pratteln
SUMMARY:Elternabend LBZ Pratteln, Klasse 2Ef
PRIORITY:1
CLASS:PUBLIC
END:VEVENT
BEGIN:VEVENT
UID:20251119etT_84643et20:00:00et22:00:00etTermin@centerboard.ch
DTSTART;TZID=Europe/Zurich:20251119T200000
DTEND;TZID=Europe/Zurich:20251119T220000
LOCATION:LBZ Pratteln
SUMMARY:Elternabend LBZ Pratteln, Klasse 2Eg
PRIORITY:1
CLASS:PUBLIC
END:VEVENT
BEGIN:VEVENT
UID:20251120etT_84644et18:00:00et20:00:00etTermin@centerboard.ch
DTSTART;TZID=Europe/Zurich:20251120T180000
DTEND;TZID=Europe/Zurich:20251120T200000
LOCATION:LBZ Pratteln
SUMMARY:Elternabend LBZ Pratteln, Klasse 2Pp
PRIORITY:1
CLASS:PUBLIC
END:VEVENT
BEGIN:VEVENT
UID:20251120etT_84645et20:00:00et22:00:00etTermin@centerboard.ch
DTSTART;TZID=Europe/Zurich:20251120T200000
DTEND;TZID=Europe/Zurich:20251120T220000
LOCATION:LBZ Pratteln
SUMMARY:Elternabend LBZ Pratteln, Klasse 2Pq
PRIORITY:1
CLASS:PUBLIC
END:VEVENT
BEGIN:VEVENT
UID:20251125etT_84751et09:10:00et11:00:00etTermin@centerboard.ch
DTSTART;TZID=Europe/Zurich:20251125T091000
DTEND;TZID=Europe/Zurich:20251125T110000
LOCATION:
SUMMARY:Klimarat
PRIORITY:1
CLASS:PUBLIC
END:VEVENT
BEGIN:VEVENT
UID:20251126etT_84752etetetTermin@centerboard.ch
DTSTART;VALUE=DATE:20251126
DURATION:P5D
LOCATION:St. Jakobhalle
SUMMARY:Berufsschau in Basel
PRIORITY:1
CLASS:PUBLIC
END:VEVENT
BEGIN:VEVENT
UID:20251204etT_84791et10:15:00et23:59:59etTermin@centerboard.ch
DTSTART;TZID=Europe/Zurich:20251204T101500
DTEND;TZID=Europe/Zurich:20251204T235900
LOCATION:
SUMMARY:SuS-Parlament
PRIORITY:1
CLASS:PUBLIC
END:VEVENT
BEGIN:VEVENT
UID:20251208etT_84796et09:35:00et09:55:00etTermin@centerboard.ch
DTSTART;TZID=Europe/Zurich:20251208T093500
DTEND;TZID=Europe/Zurich:20251212T095500
LOCATION:
SUMMARY:Alle:s lesen (Leseprojekt mit allen Klassen)
PRIORITY:1
CLASS:PUBLIC
END:VEVENT
BEGIN:VEVENT
UID:20251215etT_84799et10:20:00et10:40:00etTermin@centerboard.ch
DTSTART;TZID=Europe/Zurich:20251215T102000
DTEND;TZID=Europe/Zurich:20251219T104000
LOCATION:
SUMMARY:Alle:s lesen (Leseprojekt mit allen Klassen)
PRIORITY:1
CLASS:PUBLIC
END:VEVENT
BEGIN:VEVENT
UID:20251219etT_84801et09:45:00et10:20:00etTermin@centerboard.ch
DTSTART;TZID=Europe/Zurich:20251219T094500
DTEND;TZID=Europe/Zurich:20251219T102000
LOCATION:
SUMMARY:Lange Weihnachtspause
PRIORITY:1
CLASS:PUBLIC
END:VEVENT
BEGIN:VEVENT
UID:20260105etT_84806etetetTermin@centerboard.ch
DTSTART;VALUE=DATE:20260105
DURATION:P1D
LOCATION:
SUMMARY:Aufschaltung Anmeldeportal Weiterführende Schulen (elektronische Anmeldung)
PRIORITY:1
CLASS:PUBLIC
END:VEVENT
BEGIN:VEVENT
UID:20260109etT_84815etetetTermin@centerboard.ch
DTSTART;VALUE=DATE:20260109
DURATION:P1D
LOCATION:
SUMMARY:Zeugnisabgabe 3. Klassen
PRIORITY:1
CLASS:PUBLIC
END:VEVENT
BEGIN:VEVENT
UID:20260112etT_84816etetetTermin@centerboard.ch
DTSTART;VALUE=DATE:20260112
DURATION:P5D
LOCATION:
SUMMARY:Schneesportwoche 1Ac, 2Aa, 2Ac
PRIORITY:1
CLASS:PUBLIC
END:VEVENT
BEGIN:VEVENT
UID:20260115etT_84818et19:30:00et21:30:00etTermin@centerboard.ch
DTSTART;TZID=Europe/Zurich:20260115T193000
DTEND;TZID=Europe/Zurich:20260115T213000
LOCATION:
SUMMARY:Informationsabend Gesundheitsförderung über Umgang mit Substanzen
PRIORITY:1
CLASS:PUBLIC
END:VEVENT
BEGIN:VEVENT
UID:20260120etT_84819etetetTermin@centerboard.ch
DTSTART;VALUE=DATE:20260120
DURATION:P1D
LOCATION:
SUMMARY:Check S2 Schreiben Deutsch, 2. Klassen
PRIORITY:1
CLASS:PUBLIC
END:VEVENT
BEGIN:VEVENT
UID:20260122etT_84820etetetTermin@centerboard.ch
DTSTART;VALUE=DATE:20260122
DURATION:P1D
LOCATION:
SUMMARY:Check S2 Schreiben Französisch, 2. Klassen
PRIORITY:1
CLASS:PUBLIC
END:VEVENT
BEGIN:VEVENT
UID:20260125etT_85325etetetTermin@centerboard.ch
DTSTART;VALUE=DATE:20260125
DURATION:P1D
LOCATION:
SUMMARY:Schneesporttag freiwillig / ausserschulisch
PRIORITY:1
CLASS:PUBLIC
END:VEVENT
BEGIN:VEVENT
UID:20260126etT_85326etetetTermin@centerboard.ch
DTSTART;VALUE=DATE:20260126
DURATION:P2D
LOCATION:
SUMMARY:Schnuppertage 2Pp (2 Tage)
PRIORITY:1
CLASS:PUBLIC
END:VEVENT
BEGIN:VEVENT
UID:20260126etT_85327etetetTermin@centerboard.ch
DTSTART;VALUE=DATE:20260126
DURATION:P3D
LOCATION:
SUMMARY:Schnuppertage 2Aa, 2Ac, 2KK, 2Ef (3 Tage)
PRIORITY:1
CLASS:PUBLIC
END:VEVENT
BEGIN:VEVENT
UID:20260129etT_85328et08:30:00et11:30:00etTermin@centerboard.ch
DTSTART;TZID=Europe/Zurich:20260129T083000
DTEND;TZID=Europe/Zurich:20260129T113000
LOCATION:
SUMMARY:LBZ-Sprechstunde
PRIORITY:1
CLASS:PUBLIC
END:VEVENT
BEGIN:VEVENT
UID:20260129etT_85329et13:35:00et15:10:00etTermin@centerboard.ch
DTSTART;TZID=Europe/Zurich:20260129T133500
DTEND;TZID=Europe/Zurich:20260129T151000
LOCATION:
SUMMARY:Klimarat
PRIORITY:1
CLASS:PUBLIC
END:VEVENT
BEGIN:VEVENT
UID:20260202etT_85332etetetTermin@centerboard.ch
DTSTART;VALUE=DATE:20260202
DURATION:P2D
LOCATION:
SUMMARY:Schnuppertage 2Pq (2 Tage)
PRIORITY:1
CLASS:PUBLIC
END:VEVENT
BEGIN:VEVENT
UID:20260202etT_85333etetetTermin@centerboard.ch
DTSTART;VALUE=DATE:20260202
DURATION:P3D
LOCATION:
SUMMARY:Schnuppertage 2Ab, 2Ee, 2Eg (3 Tage)
PRIORITY:1
CLASS:PUBLIC
END:VEVENT
BEGIN:VEVENT
UID:20260205etT_85334etetetTermin@centerboard.ch
DTSTART;VALUE=DATE:20260205
DURATION:P1D
LOCATION:
SUMMARY:Projektarbeitstag 3. Klassen
PRIORITY:1
CLASS:PUBLIC
END:VEVENT
BEGIN:VEVENT
UID:20260205etT_85335etetetTermin@centerboard.ch
DTSTART;VALUE=DATE:20260205
DURATION:P1D
LOCATION:
SUMMARY:Projekttag: Mini-Projekte 1./2. Klassen, Nachmittag nach ind. Auftrag
PRIORITY:1
CLASS:PUBLIC
END:VEVENT
BEGIN:VEVENT
UID:20260211etT_85339et18:30:00et21:30:00etTermin@centerboard.ch
DTSTART;TZID=Europe/Zurich:20260211T183000
DTEND;TZID=Europe/Zurich:20260211T213000
LOCATION:
SUMMARY:Berufsinfoabend / Bewerbungscasting, 2. Klassen
PRIORITY:1
CLASS:PUBLIC
END:VEVENT
BEGIN:VEVENT
UID:20260212etT_85341et10:20:00et23:59:59etTermin@centerboard.ch
DTSTART;TZID=Europe/Zurich:20260212T102000
DTEND;TZID=Europe/Zurich:20260212T235900
LOCATION:
SUMMARY:SuS-Parlament
PRIORITY:1
CLASS:PUBLIC
END:VEVENT
BEGIN:VEVENT
UID:20260302etT_85494etetetTermin@centerboard.ch
DTSTART;VALUE=DATE:20260302
DURATION:P5D
LOCATION:
SUMMARY:Check S2 Online, 2. Klassen
PRIORITY:1
CLASS:PUBLIC
END:VEVENT
BEGIN:VEVENT
UID:20260309etT_85499etetetTermin@centerboard.ch
DTSTART;VALUE=DATE:20260309
DURATION:P5D
LOCATION:
SUMMARY:Check S2 Online, 2. Klassen
PRIORITY:1
CLASS:PUBLIC
END:VEVENT
BEGIN:VEVENT
UID:20260317etT_85503etetetTermin@centerboard.ch
DTSTART;VALUE=DATE:20260317
DURATION:P1D
LOCATION:
SUMMARY:Check S3 Schreiben Deutsch, 3. Klassen
PRIORITY:1
CLASS:PUBLIC
END:VEVENT
BEGIN:VEVENT
UID:20260319etT_85504etetetTermin@centerboard.ch
DTSTART;VALUE=DATE:20260319
DURATION:P1D
LOCATION:
SUMMARY:Check S3 Schreiben Französisch, 3. Klassen
PRIORITY:1
CLASS:PUBLIC
END:VEVENT
BEGIN:VEVENT
UID:20260317etT_85505et08:30:00et11:30:00etTermin@centerboard.ch
DTSTART;TZID=Europe/Zurich:20260317T083000
DTEND;TZID=Europe/Zurich:20260317T113000
LOCATION:
SUMMARY:LBZ-Sprechstunde
PRIORITY:1
CLASS:PUBLIC
END:VEVENT
BEGIN:VEVENT
UID:20260319etT_85508et19:30:00et21:30:00etTermin@centerboard.ch
DTSTART;TZID=Europe/Zurich:20260319T193000
DTEND;TZID=Europe/Zurich:20260319T213000
LOCATION:Aula
SUMMARY:Elternabend Gesundheitsförderung für Eltern ab der 5. Klasse
PRIORITY:1
CLASS:PUBLIC
END:VEVENT
BEGIN:VEVENT
UID:20260323etT_85509etetetTermin@centerboard.ch
DTSTART;VALUE=DATE:20260323
DURATION:P5D
LOCATION:
SUMMARY:Themenwoche (1./2. Klassen)
PRIORITY:1
CLASS:PUBLIC
END:VEVENT
BEGIN:VEVENT
UID:20260323etT_85510etetetTermin@centerboard.ch
DTSTART;VALUE=DATE:20260323
DURATION:P5D
LOCATION:
SUMMARY:Projektarbeitswoche (3. Klassen)
PRIORITY:1
CLASS:PUBLIC
END:VEVENT
BEGIN:VEVENT
UID:20260327etT_85511etetetTermin@centerboard.ch
DTSTART;VALUE=DATE:20260327
DURATION:P1D
LOCATION:
SUMMARY:Präsentationen Projektarbeiten (3. Klassen)
PRIORITY:1
CLASS:PUBLIC
END:VEVENT
BEGIN:VEVENT
UID:20260327etT_85512etetetTermin@centerboard.ch
DTSTART;VALUE=DATE:20260327
DURATION:P1D
LOCATION:
SUMMARY:Abgabe Projektarbeit an Coach (3. Klassen)
PRIORITY:1
CLASS:PUBLIC
END:VEVENT
BEGIN:VEVENT
UID:20260413etT_85514etetetTermin@centerboard.ch
DTSTART;VALUE=DATE:20260413
DURATION:P5D
LOCATION:
SUMMARY:Check S3 Online, 3. Klassen
PRIORITY:1
CLASS:PUBLIC
END:VEVENT
BEGIN:VEVENT
UID:20260420etT_85515etetetTermin@centerboard.ch
DTSTART;VALUE=DATE:20260420
DURATION:P5D
LOCATION:
SUMMARY:Check S3 Online, 3. Klassen
PRIORITY:1
CLASS:PUBLIC
END:VEVENT
BEGIN:VEVENT
UID:20260421etT_85519et19:00:00et21:00:00etTermin@centerboard.ch
DTSTART;TZID=Europe/Zurich:20260421T190000
DTEND;TZID=Europe/Zurich:20260421T210000
LOCATION:
SUMMARY:Info-Abend Weiterführende Schulen, 2. Klassen
PRIORITY:1
CLASS:PUBLIC
END:VEVENT
BEGIN:VEVENT
UID:20260428etT_85523etetetTermin@centerboard.ch
DTSTART;VALUE=DATE:20260428
DURATION:P1D
LOCATION:
SUMMARY:sCOOL-Cup Nordwestschweiz
PRIORITY:1
CLASS:PUBLIC
END:VEVENT
BEGIN:VEVENT
UID:20260430etT_85525et10:20:00et23:59:59etTermin@centerboard.ch
DTSTART;TZID=Europe/Zurich:20260430T102000
DTEND;TZID=Europe/Zurich:20260430T235900
LOCATION:
SUMMARY:SuS-Parlament
PRIORITY:1
CLASS:PUBLIC
END:VEVENT
BEGIN:VEVENT
UID:20260501etT_85526etetetTermin@centerboard.ch
DTSTART;VALUE=DATE:20260501
DURATION:P1D
LOCATION:
SUMMARY:1. Mai (schulfrei)
PRIORITY:1
CLASS:PUBLIC
END:VEVENT
BEGIN:VEVENT
UID:20260505etT_85527etetetTermin@centerboard.ch
DTSTART;VALUE=DATE:20260505
DURATION:P1D
LOCATION:
SUMMARY:Frühlingswanderung
PRIORITY:1
CLASS:PUBLIC
END:VEVENT
BEGIN:VEVENT
UID:20260508etT_85531et15:00:00et18:00:00etTermin@centerboard.ch
DTSTART;TZID=Europe/Zurich:20260508T150000
DTEND;TZID=Europe/Zurich:20260508T180000
LOCATION:Aula
SUMMARY:Ausstellung Projektarbeiten
PRIORITY:1
CLASS:PUBLIC
END:VEVENT
BEGIN:VEVENT
UID:20260509etT_85532et10:00:00et14:00:00etTermin@centerboard.ch
DTSTART;TZID=Europe/Zurich:20260509T100000
DTEND;TZID=Europe/Zurich:20260509T140000
LOCATION:Aula
SUMMARY:Ausstellung Projektarbeiten
PRIORITY:1
CLASS:PUBLIC
END:VEVENT
BEGIN:VEVENT
UID:20260512etT_85534et09:15:00et11:05:00etTermin@centerboard.ch
DTSTART;TZID=Europe/Zurich:20260512T091500
DTEND;TZID=Europe/Zurich:20260512T110500
LOCATION:
SUMMARY:Klimarat
PRIORITY:1
CLASS:PUBLIC
END:VEVENT
BEGIN:VEVENT
UID:20260512etT_85535et08:30:00et11:30:00etTermin@centerboard.ch
DTSTART;TZID=Europe/Zurich:20260512T083000
DTEND;TZID=Europe/Zurich:20260512T113000
LOCATION:
SUMMARY:LBZ-Sprechstunde
PRIORITY:1
CLASS:PUBLIC
END:VEVENT
BEGIN:VEVENT
UID:20260514etT_85536etetetTermin@centerboard.ch
DTSTART;VALUE=DATE:20260514
DURATION:P2D
LOCATION:
SUMMARY:Auffahrtsbrücke (schulfrei)
PRIORITY:1
CLASS:PUBLIC
END:VEVENT
BEGIN:VEVENT
UID:20260521etT_85537et10:20:00et16:05:00etTermin@centerboard.ch
DTSTART;TZID=Europe/Zurich:20260521T102000
DTEND;TZID=Europe/Zurich:20260521T160500
LOCATION:
SUMMARY:Theaterkurs - Intensivtag 1
PRIORITY:1
CLASS:PUBLIC
END:VEVENT
BEGIN:VEVENT
UID:20260525etT_85541etetetTermin@centerboard.ch
DTSTART;VALUE=DATE:20260525
DURATION:P1D
LOCATION:
SUMMARY:Pfingstmontag (schulfrei)
PRIORITY:1
CLASS:PUBLIC
END:VEVENT
BEGIN:VEVENT
UID:20260529etT_86407etetetTermin@centerboard.ch
DTSTART;VALUE=DATE:20260529
DURATION:P1D
LOCATION:
SUMMARY:Schweizerischer Schulsporttag in Winterthur
PRIORITY:1
CLASS:PUBLIC
END:VEVENT
BEGIN:VEVENT
UID:20260527etT_86408et07:35:00et16:05:00etTermin@centerboard.ch
DTSTART;TZID=Europe/Zurich:20260527T073500
DTEND;TZID=Europe/Zurich:20260527T160500
LOCATION:
SUMMARY:Theaterkurs - Intensivtag 2
PRIORITY:1
CLASS:PUBLIC
END:VEVENT
BEGIN:VEVENT
UID:20260604etT_86409et10:20:00et23:59:59etTermin@centerboard.ch
DTSTART;TZID=Europe/Zurich:20260604T102000
DTEND;TZID=Europe/Zurich:20260604T235900
LOCATION:
SUMMARY:SuS-Parlament
PRIORITY:1
CLASS:PUBLIC
END:VEVENT
BEGIN:VEVENT
UID:20260609etT_86412et08:30:00et11:30:00etTermin@centerboard.ch
DTSTART;TZID=Europe/Zurich:20260609T083000
DTEND;TZID=Europe/Zurich:20260609T113000
LOCATION:
SUMMARY:LBZ-Sprechstunde
PRIORITY:1
CLASS:PUBLIC
END:VEVENT
BEGIN:VEVENT
UID:20260610etT_86413et17:00:00et23:59:59etTermin@centerboard.ch
DTSTART;TZID=Europe/Zurich:20260610T170000
DTEND;TZID=Europe/Zurich:20260610T235900
LOCATION:
SUMMARY:Theaterkurs - Generalprobe
PRIORITY:1
CLASS:PUBLIC
END:VEVENT
BEGIN:VEVENT
UID:20260611etT_86419et19:00:00et20:30:00etTermin@centerboard.ch
DTSTART;TZID=Europe/Zurich:20260611T190000
DTEND;TZID=Europe/Zurich:20260611T203000
LOCATION:
SUMMARY:Theaterkurs - Aufführung 1
PRIORITY:1
CLASS:PUBLIC
END:VEVENT
BEGIN:VEVENT
UID:20260612etT_86420et19:00:00et20:30:00etTermin@centerboard.ch
DTSTART;TZID=Europe/Zurich:20260612T190000
DTEND;TZID=Europe/Zurich:20260612T203000
LOCATION:
SUMMARY:Theaterkurs - Aufführung 2
PRIORITY:1
CLASS:PUBLIC
END:VEVENT
BEGIN:VEVENT
UID:20260616etT_86422etetetTermin@centerboard.ch
DTSTART;VALUE=DATE:20260616
DURATION:P1D
LOCATION:
SUMMARY:Sommersporttag
PRIORITY:1
CLASS:PUBLIC
END:VEVENT
BEGIN:VEVENT
UID:20260617etT_86423etetetTermin@centerboard.ch
DTSTART;VALUE=DATE:20260617
DURATION:P2D
LOCATION:
SUMMARY:Schnuppertage 2. Klassen, Leistungszug A
PRIORITY:1
CLASS:PUBLIC
END:VEVENT
BEGIN:VEVENT
UID:20260618etT_86425et13:35:00et15:10:00etTermin@centerboard.ch
DTSTART;TZID=Europe/Zurich:20260618T133500
DTEND;TZID=Europe/Zurich:20260618T151000
LOCATION:
SUMMARY:Klimarat
PRIORITY:1
CLASS:PUBLIC
END:VEVENT
BEGIN:VEVENT
UID:20260619etT_86427etetetTermin@centerboard.ch
DTSTART;VALUE=DATE:20260619
DURATION:P1D
LOCATION:
SUMMARY:Zeugnisabgabe 1./2. Klassen / 3. Klassen Kopie
PRIORITY:1
CLASS:PUBLIC
END:VEVENT
BEGIN:VEVENT
UID:20260622etT_86429etetetTermin@centerboard.ch
DTSTART;VALUE=DATE:20260622
DURATION:P2D
LOCATION:
SUMMARY:Abschlussreisen 3. Klassen
PRIORITY:1
CLASS:PUBLIC
END:VEVENT
BEGIN:VEVENT
UID:20260623etT_86430etetetTermin@centerboard.ch
DTSTART;VALUE=DATE:20260623
DURATION:P1D
LOCATION:
SUMMARY:Verschiebedatum Sommersporttag (1./2. Klassen)
PRIORITY:1
CLASS:PUBLIC
END:VEVENT
BEGIN:VEVENT
UID:20260624etT_86431et10:20:00et11:55:00etTermin@centerboard.ch
DTSTART;TZID=Europe/Zurich:20260624T102000
DTEND;TZID=Europe/Zurich:20260624T115500
LOCATION:
SUMMARY:SchülerInnen-LehrerInnen-Spiele in der Dreifachhalle
PRIORITY:1
CLASS:PUBLIC
END:VEVENT
BEGIN:VEVENT
UID:20260624etT_86432etetetTermin@centerboard.ch
DTSTART;VALUE=DATE:20260624
DURATION:P1D
LOCATION:
SUMMARY:Schulball 3. Klassen
PRIORITY:1
CLASS:PUBLIC
END:VEVENT
BEGIN:VEVENT
UID:20260625etT_86434et18:00:00et19:30:00etTermin@centerboard.ch
DTSTART;TZID=Europe/Zurich:20260625T180000
DTEND;TZID=Europe/Zurich:20260625T193000
LOCATION:Dreifachhalle
SUMMARY:Schlussfeier 3. Klassen
PRIORITY:1
CLASS:PUBLIC
END:VEVENT
BEGIN:VEVENT
UID:20260130etT_86717et00:00:00et16:30:00etTermin@centerboard.ch
DTSTART;TZID=Europe/Zurich:20260130T000000
DTEND;TZID=Europe/Zurich:20260130T163000
LOCATION:
SUMMARY:Anmeldeschluss für Weiterführende Schulen (elektronische Anmeldung)
PRIORITY:1
CLASS:PUBLIC
END:VEVENT
BEGIN:VEVENT
UID:20260421etT_88127etetetTermin@centerboard.ch
DTSTART;VALUE=DATE:20260421
DURATION:P1D
LOCATION:
SUMMARY:sCool-Cup in Muttenz
PRIORITY:1
CLASS:PUBLIC
END:VEVENT
BEGIN:VEVENT
UID:20260312etT_88583et09:15:00et10:00:00etTermin@centerboard.ch
DTSTART;TZID=Europe/Zurich:20260312T091500
DTEND;TZID=Europe/Zurich:20260312T100000
LOCATION:
SUMMARY:Vorbesprechung Themenwoche (Kursleitung und Teilnehmende)
PRIORITY:1
CLASS:PUBLIC
END:VEVENT
END:VCALENDAR